BEGIN:VCALENDAR
VERSION:2.0
PRODID:-//Tukios.com/
BEGIN:VEVENT
UID:ef18524e-39d7-4c88-9c55-e0b9182c7526@www.jonesfamilyservices.com
DTSTAMP:20260424T203353Z
DTSTART:20260426T230000Z
DTEND:20260427T000000Z
SUMMARY:Funeral Service
DESCRIPTION:
URL:https://www.jonesfamilyservices.com/obituaries/kenneth-davis-jr
LOCATION:Upper Room Ministry 860 Tennessee 33  New Tazewell TN 37825
GEO:36.4306787;-83.6215442
END:VEVENT
END:VCALENDAR