BEGIN:VCALENDAR
VERSION:2.0
PRODID:-//Tukios.com/
BEGIN:VEVENT
UID:4b5fef53-ae89-4104-93b8-85e4a31158a3@www.jonesfamilyservices.com
DTSTAMP:20260424T203316Z
DTSTART:20260426T210000Z
DTEND:20260426T230000Z
SUMMARY:Visitation
DESCRIPTION:
URL:https://www.jonesfamilyservices.com/obituaries/kenneth-davis-jr
LOCATION:Upper Room Ministry 860 Tennessee 33  New Tazewell TN 37825
GEO:36.4306787;-83.6215442
END:VEVENT
END:VCALENDAR